BEGIN:VCALENDAR
VERSION:2.0
PRODID:-//ITS - ECPv6.15.20//NONSGML v1.0//EN
CALSCALE:GREGORIAN
METHOD:PUBLISH
X-WR-CALNAME:ITS
X-ORIGINAL-URL:https://its-training.com
X-WR-CALDESC:Events for ITS
REFRESH-INTERVAL;VALUE=DURATION:PT1H
X-Robots-Tag:noindex
X-PUBLISHED-TTL:PT1H
BEGIN:VTIMEZONE
TZID:America/Chicago
BEGIN:DAYLIGHT
TZOFFSETFROM:-0600
TZOFFSETTO:-0500
TZNAME:CDT
DTSTART:20240310T080000
END:DAYLIGHT
BEGIN:STANDARD
TZOFFSETFROM:-0500
TZOFFSETTO:-0600
TZNAME:CST
DTSTART:20241103T070000
END:STANDARD
BEGIN:DAYLIGHT
TZOFFSETFROM:-0600
TZOFFSETTO:-0500
TZNAME:CDT
DTSTART:20250309T080000
END:DAYLIGHT
BEGIN:STANDARD
TZOFFSETFROM:-0500
TZOFFSETTO:-0600
TZNAME:CST
DTSTART:20251102T070000
END:STANDARD
BEGIN:DAYLIGHT
TZOFFSETFROM:-0600
TZOFFSETTO:-0500
TZNAME:CDT
DTSTART:20260308T080000
END:DAYLIGHT
BEGIN:STANDARD
TZOFFSETFROM:-0500
TZOFFSETTO:-0600
TZNAME:CST
DTSTART:20261101T070000
END:STANDARD
END:VTIMEZONE
BEGIN:VEVENT
DTSTART;VALUE=DATE:20250728
DTEND;VALUE=DATE:20250801
DTSTAMP:20260420T133335
CREATED:20250508T181445Z
LAST-MODIFIED:20250508T181445Z
UID:10000832-1753660800-1754006399@its-training.com
SUMMARY:TGA (Texas) O&M Conference
DESCRIPTION:We’re excited to be part of TGA (Texas) O&M Conference and would love the chance to connect with you. Stop by to learn more about how ITS is helping you stay compliant\, safe\, and ahead of industry challenges. Whether you’re an existing partner or just curious about what we do\, we look forward to meeting you!
URL:https://its-training.com/event/tga-texas-om-conference/
LOCATION:Embassy Suites by Hilton\, 7600 John Q Hammons Dr\, Frisco\, TX\, United States
END:VEVENT
END:VCALENDAR